BEGIN:VCALENDAR
VERSION:2.0
PRODID:-// eRoom plugin //NONSGML v1.0//EN
CALSCALE:GREGORIAN
BEGIN:VEVENT
UID:eRoom-1776301943
SUMMARY:Seyans 24 Desanm : Aprann koman pou itilze ni CEX ni DEX
LOCATION:Zoom
DESCRIPTION:Seyans 24 Desanm : Aprann koman pou itilze ni CEX ni DEX is inv
 iting you to a scheduled Zoom meeting.\n\nJoin Zoom Meeting\nhttps://us06w
 eb.zoom.us/j/86752228841?pwd=J4l2zY75cb1K2c7duQELHbLxgaAcce.1\n\nMeeting I
 D: 86752228841\nPasscode: 123456\n
URL;VALUE=URI:https://us06web.zoom.us/j/86752228841?pwd=J4l2zY75cb1K2c7duQELHbLxgaAcce.1
DTSTART:20241225T013000Z
DTEND:20241225T043000Z
DTSTAMP:20260416T011223Z
BEGIN:VALARM
ACTION:DISPLAY
DESCRIPTION:Reminder
TRIGGER;RELATED=START:-PT15M
END:VALARM
END:VEVENT
END:VCALENDAR