BEGIN:VCALENDAR
VERSION:2.0
PRODID:-// eRoom plugin //NONSGML v1.0//EN
CALSCALE:GREGORIAN
BEGIN:VEVENT
UID:eRoom-1776301993
SUMMARY:Seyans 12 Desanm : Istwa Bitcoin
LOCATION:Zoom
DESCRIPTION:Seyans 12 Desanm : Istwa Bitcoin is inviting you to a scheduled
  Zoom meeting.\n\nJoin Zoom Meeting\nhttps://us06web.zoom.us/j/84277070738
 ?pwd=ehQynzGFEJjloZR2WaG7KHeVQKadQI.1\n\nMeeting ID: 84277070738\nPasscode
 : 123456\n
URL;VALUE=URI:https://us06web.zoom.us/j/84277070738?pwd=ehQynzGFEJjloZR2WaG7KHeVQKadQI.1
DTSTART:20241213T013000Z
DTEND:20241213T043000Z
DTSTAMP:20260416T011313Z
BEGIN:VALARM
ACTION:DISPLAY
DESCRIPTION:Reminder
TRIGGER;RELATED=START:-PT15M
END:VALARM
END:VEVENT
END:VCALENDAR