BEGIN:VCALENDAR
VERSION:2.0
PRODID:-// eRoom plugin //NONSGML v1.0//EN
CALSCALE:GREGORIAN
BEGIN:VEVENT
UID:eRoom-1776302283
SUMMARY:Pratike ak metrize tranzaksyon sou DEX yo
LOCATION:Zoom
DESCRIPTION:Objektif\n \n\n\nPratike ak metrize tranzaksyon sou DEX yo\n\n
 \n\n---\n\nPratike ak metrize tranzaksyon sou DEX yo is inviting you to a 
 scheduled Zoom meeting.\n\nJoin Zoom Meeting\nhttps://us06web.zoom.us/j/84
 906745975?pwd=twJREzwtqUIvDQ0GCDQFb80xZLg1Ja.1\n\nMeeting ID: 84906745975
 \nPasscode: 123456\n
URL;VALUE=URI:https://us06web.zoom.us/j/84906745975?pwd=twJREzwtqUIvDQ0GCDQFb80xZLg1Ja.1
DTSTART:20241226T010000Z
DTEND:20241226T010300Z
DTSTAMP:20260416T011803Z
BEGIN:VALARM
ACTION:DISPLAY
DESCRIPTION:Reminder
TRIGGER;RELATED=START:-PT15M
END:VALARM
END:VEVENT
END:VCALENDAR